BEGIN:VCALENDAR
VERSION:2.0
PRODID:-//The Olive Tree Church, Luton - ECPv6.15.20//NONSGML v1.0//EN
CALSCALE:GREGORIAN
METHOD:PUBLISH
X-ORIGINAL-URL:https://theolivetreechurch.org.uk
X-WR-CALDESC:Events for The Olive Tree Church, Luton
REFRESH-INTERVAL;VALUE=DURATION:PT1H
X-Robots-Tag:noindex
X-PUBLISHED-TTL:PT1H
BEGIN:VTIMEZONE
TZID:UTC
BEGIN:STANDARD
TZOFFSETFROM:+0000
TZOFFSETTO:+0000
TZNAME:UTC
DTSTART:20240101T000000
END:STANDARD
END:VTIMEZONE
BEGIN:VEVENT
DTSTART;TZID=UTC:20250824T103000
DTEND;TZID=UTC:20250824T120000
DTSTAMP:20260424T153306
CREATED:20250717T071726Z
LAST-MODIFIED:20250717T071726Z
UID:22311-1756031400-1756036800@theolivetreechurch.org.uk
SUMMARY:Sunday Worship: Praise and Prayer
DESCRIPTION:We’re led by Belinda – as we love and worship Jesus
URL:https://theolivetreechurch.org.uk/event/sunday-worship-praise-and-prayer/
LOCATION:The Olive Tree
CATEGORIES:Sunday worship
END:VEVENT
END:VCALENDAR