BEGIN:VCALENDAR
VERSION:2.0
PRODID:-//The Olive Tree Church, Luton - ECPv6.15.20//NONSGML v1.0//EN
CALSCALE:GREGORIAN
METHOD:PUBLISH
X-ORIGINAL-URL:https://theolivetreechurch.org.uk
X-WR-CALDESC:Events for The Olive Tree Church, Luton
REFRESH-INTERVAL;VALUE=DURATION:PT1H
X-Robots-Tag:noindex
X-PUBLISHED-TTL:PT1H
BEGIN:VTIMEZONE
TZID:UTC
BEGIN:STANDARD
TZOFFSETFROM:+0000
TZOFFSETTO:+0000
TZNAME:UTC
DTSTART:20230101T000000
END:STANDARD
END:VTIMEZONE
BEGIN:VEVENT
DTSTART;TZID=UTC:20241222T170000
DTEND;TZID=UTC:20241222T180000
DTSTAMP:20260420T130044
CREATED:20241111T081707Z
LAST-MODIFIED:20241216T085040Z
UID:21760-1734886800-1734890400@theolivetreechurch.org.uk
SUMMARY:Annual Carol Service: joining us are St Andrews Congregation
DESCRIPTION:Carol Service 2024.docxCarol Service 2024.docx Carols and mince pies. Join our Carol Celebration with the Vicar and Congregation of St Andrews Church \nPlease bring mince pies to share
URL:https://theolivetreechurch.org.uk/event/annual-carol-service-joining-us-are-st-andrews-congregation/
LOCATION:The Olive Tree
CATEGORIES:Special Events,Sunday worship,Worship
END:VEVENT
END:VCALENDAR