BEGIN:VCALENDAR
VERSION:2.0
PRODID:-//The Olive Tree Church, Luton - ECPv6.15.20//NONSGML v1.0//EN
CALSCALE:GREGORIAN
METHOD:PUBLISH
X-ORIGINAL-URL:https://theolivetreechurch.org.uk
X-WR-CALDESC:Events for The Olive Tree Church, Luton
REFRESH-INTERVAL;VALUE=DURATION:PT1H
X-Robots-Tag:noindex
X-PUBLISHED-TTL:PT1H
BEGIN:VTIMEZONE
TZID:UTC
BEGIN:STANDARD
TZOFFSETFROM:+0000
TZOFFSETTO:+0000
TZNAME:UTC
DTSTART:20240101T000000
END:STANDARD
END:VTIMEZONE
BEGIN:VEVENT
DTSTART;TZID=UTC:20250302T103000
DTEND;TZID=UTC:20250302T120000
DTSTAMP:20260420T192654
CREATED:20250203T143618Z
LAST-MODIFIED:20250203T143618Z
UID:21935-1740911400-1740916800@theolivetreechurch.org.uk
SUMMARY:Sunday Worship: Holy Communion: Rev Emmanuel Aggrey-Ogoe
DESCRIPTION:Please join with to remember the once-for-all sacrifice by Jesus; our saviour
URL:https://theolivetreechurch.org.uk/event/sunday-worship-holy-communion-rev-emmanuel-aggrey-ogoe/
LOCATION:The Olive Tree
CATEGORIES:Sunday worship,Worship
END:VEVENT
BEGIN:VEVENT
DTSTART;TZID=UTC:20250309T103000
DTEND;TZID=UTC:20250309T120000
DTSTAMP:20260420T192654
CREATED:20250203T143946Z
LAST-MODIFIED:20250203T144011Z
UID:21937-1741516200-1741521600@theolivetreechurch.org.uk
SUMMARY:First Sunday of Lent: All Age Worship: Claire McGurkin
DESCRIPTION:Join with us as we approach Lent with an All-age Worship led by Claire
URL:https://theolivetreechurch.org.uk/event/first-sunday-of-lent-all-age-worship-claire-mcgurkin/
LOCATION:The Olive Tree
CATEGORIES:Sunday worship,Worship
END:VEVENT
BEGIN:VEVENT
DTSTART;TZID=UTC:20250316T103000
DTEND;TZID=UTC:20250316T120000
DTSTAMP:20260420T192654
CREATED:20250306T083628Z
LAST-MODIFIED:20250306T083628Z
UID:22001-1742121000-1742126400@theolivetreechurch.org.uk
SUMMARY:Sunday Worship: "Trusting God in the journey" - Rev Michael Anokye
DESCRIPTION:Please join us @ The Olive Tree Church\, Luton
URL:https://theolivetreechurch.org.uk/event/sunday-worship-trusting-god-in-the-journey-rev-michael-anokye/
LOCATION:The Olive Tree
CATEGORIES:Sunday worship
END:VEVENT
BEGIN:VEVENT
DTSTART;TZID=UTC:20250323T103000
DTEND;TZID=UTC:20250323T120000
DTSTAMP:20260420T192654
CREATED:20250306T083951Z
LAST-MODIFIED:20250306T083951Z
UID:22005-1742725800-1742731200@theolivetreechurch.org.uk
SUMMARY:Sunday Worship: 3rd Sunday in Lent
DESCRIPTION:Please join Rev Michael Anokye
URL:https://theolivetreechurch.org.uk/event/sunday-worship-3rd-sunday-in-lent/
LOCATION:The Olive Tree
CATEGORIES:Sunday worship
END:VEVENT
BEGIN:VEVENT
DTSTART;TZID=UTC:20250330T103000
DTEND;TZID=UTC:20250330T120000
DTSTAMP:20260420T192654
CREATED:20250306T084210Z
LAST-MODIFIED:20250306T084210Z
UID:22007-1743330600-1743336000@theolivetreechurch.org.uk
SUMMARY:Sunday Worship: Mothering Sunday - Belinda Freeman
DESCRIPTION:Please join us for inspirational worship led by Belinda Freeman from Vineyard Dunstable
URL:https://theolivetreechurch.org.uk/event/sunday-worship-mothering-sunday-belinda-freeman/
CATEGORIES:Sunday worship
END:VEVENT
END:VCALENDAR