BEGIN:VCALENDAR
VERSION:2.0
PRODID:-//The Olive Tree Church, Luton - ECPv6.15.20//NONSGML v1.0//EN
CALSCALE:GREGORIAN
METHOD:PUBLISH
X-WR-CALNAME:The Olive Tree Church, Luton
X-ORIGINAL-URL:https://theolivetreechurch.org.uk
X-WR-CALDESC:Events for The Olive Tree Church, Luton
REFRESH-INTERVAL;VALUE=DURATION:PT1H
X-Robots-Tag:noindex
X-PUBLISHED-TTL:PT1H
BEGIN:VTIMEZONE
TZID:UTC
BEGIN:STANDARD
TZOFFSETFROM:+0000
TZOFFSETTO:+0000
TZNAME:UTC
DTSTART:20200101T000000
END:STANDARD
END:VTIMEZONE
BEGIN:VEVENT
DTSTART;TZID=UTC:20240214T140000
DTEND;TZID=UTC:20240214T150000
DTSTAMP:20260421T160912
CREATED:20240117T151327Z
LAST-MODIFIED:20240212T070319Z
UID:20893-1707919200-1707922800@theolivetreechurch.org.uk
SUMMARY:South Beds Methodist Circuit Ash Wednesday Service: @ The Branch
DESCRIPTION:Please join with South Beds Methodists @ The Branch on Wednesday 14th February 2024. The service begins at 2:00PM. \nAny offers to help will be gratefully accepted. Please speak to Madit.
URL:https://theolivetreechurch.org.uk/event/south-beds-methodist-circuit-ash-wednesday-service-the-branch/
LOCATION:The Olive Branch
CATEGORIES:Special Events,Worship
END:VEVENT
BEGIN:VEVENT
DTSTART;TZID=UTC:20231217T160000
DTEND;TZID=UTC:20231217T170000
DTSTAMP:20260421T160912
CREATED:20231130T104806Z
LAST-MODIFIED:20231130T104806Z
UID:20744-1702828800-1702832400@theolivetreechurch.org.uk
SUMMARY:Sing with Praise: Carols in Candlelight (with Mince Pies)
DESCRIPTION:Please join us at 4:00 PM and sing your hearts out for Christmas! Candlelight and Mince Pies. \nAll welcome
URL:https://theolivetreechurch.org.uk/event/sing-with-praise-carols-in-candlelight-with-mince-pies/
LOCATION:The Olive Tree
CATEGORIES:Special Events,Sunday worship
END:VEVENT
BEGIN:VEVENT
DTSTART;TZID=UTC:20231007T140000
DTEND;TZID=UTC:20231007T153000
DTSTAMP:20260421T160912
CREATED:20230723T040428Z
LAST-MODIFIED:20230908T093930Z
UID:2277-1696687200-1696692600@theolivetreechurch.org.uk
SUMMARY:Induction Service for Rev Michael Anokye
DESCRIPTION:Our Induction service to welcome Rev Michael’s ministry to OTC
URL:https://theolivetreechurch.org.uk/event/induction-service-for-rev-michael-anokye/
LOCATION:The Olive Tree
CATEGORIES:Church Meeting,Special Events,Worship
END:VEVENT
BEGIN:VEVENT
DTSTART;TZID=UTC:20230709T103000
DTEND;TZID=UTC:20230709T123000
DTSTAMP:20260421T160912
CREATED:20230529T033135Z
LAST-MODIFIED:20230529T033152Z
UID:2224-1688898600-1688905800@theolivetreechurch.org.uk
SUMMARY:Outdoors Service - Dunstable Downs
DESCRIPTION:Join us as we worship outdoors on the ridge of Dunstable Downs – South Beds Methodist Circuit. All welcome – bring picnic\, suncream\, windjammer\, anoraks\, but mostly your self! \nCafe and toilets available
URL:https://theolivetreechurch.org.uk/event/outdoors-service-dunstable-downs/
LOCATION:Dunstable Downs
CATEGORIES:Special Events,Worship
END:VEVENT
BEGIN:VEVENT
DTSTART;TZID=UTC:20230702T120000
DTEND;TZID=UTC:20230702T133000
DTSTAMP:20260421T160912
CREATED:20230618T043556Z
LAST-MODIFIED:20230618T043556Z
UID:2238-1688299200-1688304600@theolivetreechurch.org.uk
SUMMARY:Special Church Meeting followed by a light lunch
DESCRIPTION:After the Service – which will be led by a visiting Minister who is interested in the Minister Vacancy we will have an opportunity to chat with him over lunch. Once he leaves we will hold a short meeting to discuss whether we move the process forward with the blessing of the OTC Fellowship.
URL:https://theolivetreechurch.org.uk/event/special-church-meeting-followed-by-a-light-lunch/
LOCATION:The Olive Tree
CATEGORIES:Church Meeting,Special Events
END:VEVENT
BEGIN:VEVENT
DTSTART;TZID=UTC:20230701T140000
DTEND;TZID=UTC:20230701T160000
DTSTAMP:20260421T160912
CREATED:20230403T043428Z
LAST-MODIFIED:20230529T031838Z
UID:2123-1688220000-1688227200@theolivetreechurch.org.uk
SUMMARY:Fun\, fellowship\, Barbecue
DESCRIPTION:Keep this date for a lovely social event. More information to come.
URL:https://theolivetreechurch.org.uk/event/fun-fellowship-barbecue/
CATEGORIES:Special Events
END:VEVENT
BEGIN:VEVENT
DTSTART;TZID=UTC:20230309T123000
DTEND;TZID=UTC:20230309T133000
DTSTAMP:20260421T160912
CREATED:20230303T155342Z
LAST-MODIFIED:20230303T155342Z
UID:2087-1678365000-1678368600@theolivetreechurch.org.uk
SUMMARY:Christian Aid Lunch
DESCRIPTION:
URL:https://theolivetreechurch.org.uk/event/christian-aid-lunch-7/
LOCATION:The Olive Tree
CATEGORIES:Community Groups,Special Events
END:VEVENT
BEGIN:VEVENT
DTSTART;TZID=UTC:20211218T140000
DTEND;TZID=UTC:20211218T163000
DTSTAMP:20260421T160912
CREATED:20211118T145246Z
LAST-MODIFIED:20211118T145524Z
UID:812-1639836000-1639845000@theolivetreechurch.org.uk
SUMMARY:Carol Singing with Oasis - outside The BRANCH
DESCRIPTION:
URL:https://theolivetreechurch.org.uk/event/carol-singing-with-oasis-outside-the-branch/
LOCATION:The Olive Branch
CATEGORIES:Special Events
END:VEVENT
END:VCALENDAR