BEGIN:VCALENDAR
VERSION:2.0
PRODID:-//The Olive Tree Church, Luton - ECPv6.15.20//NONSGML v1.0//EN
CALSCALE:GREGORIAN
METHOD:PUBLISH
X-ORIGINAL-URL:https://theolivetreechurch.org.uk
X-WR-CALDESC:Events for The Olive Tree Church, Luton
REFRESH-INTERVAL;VALUE=DURATION:PT1H
X-Robots-Tag:noindex
X-PUBLISHED-TTL:PT1H
BEGIN:VTIMEZONE
TZID:UTC
BEGIN:STANDARD
TZOFFSETFROM:+0000
TZOFFSETTO:+0000
TZNAME:UTC
DTSTART:20240101T000000
END:STANDARD
END:VTIMEZONE
BEGIN:VEVENT
DTSTART;TZID=UTC:20251116T103000
DTEND;TZID=UTC:20251116T120000
DTSTAMP:20260421T104013
CREATED:20251013T062210Z
LAST-MODIFIED:20251017T075255Z
UID:22469-1763289000-1763294400@theolivetreechurch.org.uk
SUMMARY:Sunday Worship: Led by Mr Ramon Akib
DESCRIPTION:Please join us: all welcome
URL:https://theolivetreechurch.org.uk/event/sunday-worship-10/
LOCATION:The Olive Tree
CATEGORIES:Sunday worship
END:VEVENT
END:VCALENDAR