BEGIN:VCALENDAR
VERSION:2.0
PRODID:-//The Olive Tree Church, Luton - ECPv6.15.20//NONSGML v1.0//EN
CALSCALE:GREGORIAN
METHOD:PUBLISH
X-ORIGINAL-URL:https://theolivetreechurch.org.uk
X-WR-CALDESC:Events for The Olive Tree Church, Luton
REFRESH-INTERVAL;VALUE=DURATION:PT1H
X-Robots-Tag:noindex
X-PUBLISHED-TTL:PT1H
BEGIN:VTIMEZONE
TZID:UTC
BEGIN:STANDARD
TZOFFSETFROM:+0000
TZOFFSETTO:+0000
TZNAME:UTC
DTSTART:20240101T000000
END:STANDARD
END:VTIMEZONE
BEGIN:VEVENT
DTSTART;TZID=UTC:20251009T103000
DTEND;TZID=UTC:20251009T120000
DTSTAMP:20260421T184239
CREATED:20251006T070855Z
LAST-MODIFIED:20251006T070855Z
UID:22455-1760005800-1760011200@theolivetreechurch.org.uk
SUMMARY:Coffee Drop In
DESCRIPTION:Please join us at The Olive Tree Church – 10:30 – 12:00. Meet or make friends.
URL:https://theolivetreechurch.org.uk/event/coffee-drop-in-3/
LOCATION:The Olive Tree
CATEGORIES:Coffee Fellowship
END:VEVENT
BEGIN:VEVENT
DTSTART;TZID=UTC:20251009T193000
DTEND;TZID=UTC:20251009T210000
DTSTAMP:20260421T184239
CREATED:20251006T071221Z
LAST-MODIFIED:20251006T071221Z
UID:22457-1760038200-1760043600@theolivetreechurch.org.uk
SUMMARY:Weekly Prayer\, Praise and Teaching Session
DESCRIPTION:All welcome – have an encounter with The Holy Spirit. Learn about anointing. Praise Jesus. Meet in fellowship with each other and our Lord. \nrear Hall of what was St Margaret’s Methodist Chapel. Access through the gates between the Chapel and the Hall (Martial Arts on-going)
URL:https://theolivetreechurch.org.uk/event/weekly-prayer-praise-and-teaching-session/
LOCATION:The Olive Branch
CATEGORIES:Prayer Meeting,Teaching,Worship
END:VEVENT
END:VCALENDAR