BEGIN:VCALENDAR
VERSION:2.0
PRODID:-//The Olive Tree Church, Luton - ECPv6.15.20//NONSGML v1.0//EN
CALSCALE:GREGORIAN
METHOD:PUBLISH
X-ORIGINAL-URL:https://theolivetreechurch.org.uk
X-WR-CALDESC:Events for The Olive Tree Church, Luton
REFRESH-INTERVAL;VALUE=DURATION:PT1H
X-Robots-Tag:noindex
X-PUBLISHED-TTL:PT1H
BEGIN:VTIMEZONE
TZID:UTC
BEGIN:STANDARD
TZOFFSETFROM:+0000
TZOFFSETTO:+0000
TZNAME:UTC
DTSTART:20240101T000000
END:STANDARD
END:VTIMEZONE
BEGIN:VEVENT
DTSTART;TZID=UTC:20250912T193000
DTEND;TZID=UTC:20250912T203000
DTSTAMP:20260424T130603
CREATED:20250901T130810Z
LAST-MODIFIED:20250901T130810Z
UID:22388-1757705400-1757709000@theolivetreechurch.org.uk
SUMMARY:Prayer Meeting - please read the content
DESCRIPTION:A new venture – please join us in prayer – regular 2nd and 3rd Fridays 7:30 – 8:30 pm and last Friday 6:00 AM to 7:00 AM \n \n 
URL:https://theolivetreechurch.org.uk/event/prayer-meeting-please-read-the-content/
LOCATION:The Olive Tree
END:VEVENT
END:VCALENDAR